BEGIN:VCALENDAR
VERSION:2.0
PRODID:-//Squarespace Inc/Squarespace 6//v6//EN
BEGIN:VEVENT
UID:5ab0500b70a6ad0412624f26@squarespace.com
DTSTAMP:20180530T231654Z
DTSTART:20180419T133000Z
DTEND:20180419T213000Z
SUMMARY:Charity Golf Day
GEO:-36.819932;174.426698
LOCATION:Muriwai Golf Club\, 101 Coast Road\, Muriwai\, Auckland\, 0881\, N
 ew Zealand
END:VEVENT
END:VCALENDAR
