BEGIN:VCALENDAR
VERSION:2.0
PRODID:-//Squarespace Inc/Squarespace 6//v6//EN
BEGIN:VEVENT
UID:5b0f30e6352f534e4af3da75@squarespace.com
DTSTAMP:20180621T013937Z
DTSTART:20180621T210000Z
DTEND:20180622T020000Z
SUMMARY:Madam Woo Charity Auction Dinner Hamilton
GEO:-37.789364;175.28578
LOCATION:Madam Woo\, 6 Sapper Moore-Jones Place\, Hamilton\, Waikato\, 3204
 \, New Zealand
END:VEVENT
END:VCALENDAR
