BEGIN:VCALENDAR
VERSION:2.0
PRODID:-//Squarespace Inc/Squarespace 6//v6//EN
BEGIN:VEVENT
UID:5b29b7fc0e2e72fa20edb99f@squarespace.com
DTSTAMP:20180620T233143Z
DTSTART:20180701T120000Z
DTEND:20190401T030000Z
SUMMARY:Melanoma $100 Challenge
END:VEVENT
END:VCALENDAR
